BEGIN:VCALENDAR

VERSION:2.0

PRODID:-//hacksw/handcal//NONSGML v1.0//EN

BEGIN:VEVENT

UID:700e410c8e8849345840c261d16b1e0e

DTSTAMP:20260423T131151Z

DTSTART:20260517T110000

DTEND:20260517T113000

SUMMARY:L40407500 - 315 Corbett Road, Lepperton Taranaki 4373

LOCATION:315 Corbett Road, Lepperton Taranaki 4373

END:VEVENT

END:VCALENDAR