BEGIN:VCALENDAR

VERSION:2.0

PRODID:-//hacksw/handcal//NONSGML v1.0//EN

BEGIN:VEVENT

UID:6c3494f1a5be1d7df8305e333d266470

DTSTAMP:20260421T111551Z

DTSTART:20260513T000000

DTEND:20260513T000000

SUMMARY:L40266444 - 89 Pendarves Street, New Plymouth Central Taranaki 4312

LOCATION:89 Pendarves Street, New Plymouth Central Taranaki 4312

END:VEVENT

END:VCALENDAR