BEGIN:VCALENDAR

VERSION:2.0

PRODID:-//hacksw/handcal//NONSGML v1.0//EN

BEGIN:VEVENT

UID:83784078be654e669655bd58da7bc5c3

DTSTAMP:20260421T111211Z

DTSTART:20260513T000000

DTEND:20260513T000000

SUMMARY:L33480068 - 11 Ihaia Street, Waitara Taranaki 4320

LOCATION:11 Ihaia Street, Waitara Taranaki 4320

END:VEVENT

END:VCALENDAR