BEGIN:VCALENDAR

VERSION:2.0

PRODID:-//hacksw/handcal//NONSGML v1.0//EN

BEGIN:VEVENT

UID:3c3d0bc4a760f56ed6ed2592b0ab38c6

DTSTAMP:20260423T131858Z

DTSTART:20260510T110000

DTEND:20260510T113000

SUMMARY:L40407500 - 315 Corbett Road, Lepperton Taranaki 4373

LOCATION:315 Corbett Road, Lepperton Taranaki 4373

END:VEVENT

END:VCALENDAR