BEGIN:VCALENDAR

VERSION:2.0

PRODID:-//hacksw/handcal//NONSGML v1.0//EN

BEGIN:VEVENT

UID:bea1146c7e418d3a4372ed88c9689d81

DTSTAMP:20260423T131542Z

DTSTART:20260503T110000

DTEND:20260503T113000

SUMMARY:L40407500 - 315 Corbett Road, Lepperton Taranaki 4373

LOCATION:315 Corbett Road, Lepperton Taranaki 4373

END:VEVENT

END:VCALENDAR