BEGIN:VCALENDAR

VERSION:2.0

PRODID:-//hacksw/handcal//NONSGML v1.0//EN

BEGIN:VEVENT

UID:22bef78086a631530e674783e238ae77

DTSTAMP:20260424T145611Z

DTSTART:20260429T120000

DTEND:20260429T130000

SUMMARY:L40421592 - 312F Hurford Road, Hurford Taranaki 4374

LOCATION:312F Hurford Road, Hurford Taranaki 4374

END:VEVENT

END:VCALENDAR