BEGIN:VCALENDAR

VERSION:2.0

PRODID:-//hacksw/handcal//NONSGML v1.0//EN

BEGIN:VEVENT

UID:e830a9e46cc81c62bf616399a007d06e

DTSTAMP:20260423T145559Z

DTSTART:20260428T120000

DTEND:20260428T130000

SUMMARY:L40404928 - 2 Frederick Place, Whalers Gate Taranaki 4310

LOCATION:2 Frederick Place, Whalers Gate Taranaki 4310

END:VEVENT

END:VCALENDAR