BEGIN:VCALENDAR

VERSION:2.0

PRODID:-//hacksw/handcal//NONSGML v1.0//EN

BEGIN:VEVENT

UID:45b44375750f97980d89ceb62f22a7f9

DTSTAMP:20260424T150100Z

DTSTART:20260426T123000

DTEND:20260426T130000

SUMMARY:L40421592 - 312F Hurford Road, Hurford Taranaki 4374

LOCATION:312F Hurford Road, Hurford Taranaki 4374

END:VEVENT

END:VCALENDAR