BEGIN:VCALENDAR

VERSION:2.0

PRODID:-//hacksw/handcal//NONSGML v1.0//EN

BEGIN:VEVENT

UID:4b4cb56c3c2411163f8d403ed0a24fd3

DTSTAMP:20260424T150458Z

DTSTART:20260426T130000

DTEND:20260426T133000

SUMMARY:L40421747 - 25 Kamahi Avenue, Hawera Taranaki 4610

LOCATION:25 Kamahi Avenue, Hawera Taranaki 4610

END:VEVENT

END:VCALENDAR