BEGIN:VCALENDAR

VERSION:2.0

PRODID:-//hacksw/handcal//NONSGML v1.0//EN

BEGIN:VEVENT

UID:1f2688eddedacbd755e9580bce7f0584

DTSTAMP:20260423T145736Z

DTSTART:20260426T110000

DTEND:20260426T113000

SUMMARY:L40375832 - 9D Paynters Avenue, Strandon Taranaki 4312

LOCATION:9D Paynters Avenue, Strandon Taranaki 4312

END:VEVENT

END:VCALENDAR