BEGIN:VCALENDAR

VERSION:2.0

PRODID:-//hacksw/handcal//NONSGML v1.0//EN

BEGIN:VEVENT

UID:2e30114917a48ab56be62b78f82821eb

DTSTAMP:20260423T145731Z

DTSTART:20260426T113000

DTEND:20260426T120000

SUMMARY:L40404928 - 2 Frederick Place, Whalers Gate Taranaki 4310

LOCATION:2 Frederick Place, Whalers Gate Taranaki 4310

END:VEVENT

END:VCALENDAR