BEGIN:VCALENDAR

VERSION:2.0

PRODID:-//hacksw/handcal//NONSGML v1.0//EN

BEGIN:VEVENT

UID:ce0bfc9957032801f936cb65de4908ea

DTSTAMP:20260421T124357Z

DTSTART:20260426T141500

DTEND:20260426T144500

SUMMARY:L33480068 - 11 Ihaia Street, Waitara Taranaki 4320

LOCATION:11 Ihaia Street, Waitara Taranaki 4320

END:VEVENT

END:VCALENDAR