BEGIN:VCALENDAR

VERSION:2.0

PRODID:-//hacksw/handcal//NONSGML v1.0//EN

BEGIN:VEVENT

UID:1be211c8ebd8d3a034d72d7a11c92d54

DTSTAMP:20260421T092136Z

DTSTART:20260426T140000

DTEND:20260426T143000

SUMMARY:L40149274 - 105 Fulford Street, New Plymouth Taranaki 4310

LOCATION:105 Fulford Street, New Plymouth Taranaki 4310

END:VEVENT

END:VCALENDAR