BEGIN:VCALENDAR

VERSION:2.0

PRODID:-//hacksw/handcal//NONSGML v1.0//EN

BEGIN:VEVENT

UID:fef2ee6bded4a907480bb31ee132444a

DTSTAMP:20260421T094440Z

DTSTART:20260426T124500

DTEND:20260426T131500

SUMMARY:L39790460 - 27A Port View Crescent, Moturoa Taranaki 4310

LOCATION:27A Port View Crescent, Moturoa Taranaki 4310

END:VEVENT

END:VCALENDAR