BEGIN:VCALENDAR

VERSION:2.0

PRODID:-//hacksw/handcal//NONSGML v1.0//EN

BEGIN:VEVENT

UID:bb4c5d5285435958fb372e3ef0500d1f

DTSTAMP:20260422T055524Z

DTSTART:20260426T130000

DTEND:20260426T133000

SUMMARY:L40102428 - 8 Dorset Avenue, Westown Taranaki 4310

LOCATION:8 Dorset Avenue, Westown Taranaki 4310

END:VEVENT

END:VCALENDAR