BEGIN:VCALENDAR

VERSION:2.0

PRODID:-//hacksw/handcal//NONSGML v1.0//EN

BEGIN:VEVENT

UID:8aa17adab39c550f7917d7e199f7b187

DTSTAMP:20260421T092844Z

DTSTART:20260426T131500

DTEND:20260426T134500

SUMMARY:L39938586 - 36d Gaine Street, New Plymouth Taranaki 4310

LOCATION:36d Gaine Street, New Plymouth Taranaki 4310

END:VEVENT

END:VCALENDAR