BEGIN:VCALENDAR

VERSION:2.0

PRODID:-//hacksw/handcal//NONSGML v1.0//EN

BEGIN:VEVENT

UID:10f6edfe31d098b0db5b9b3c59acc780

DTSTAMP:20260422T183405Z

DTSTART:20260426T133000

DTEND:20260426T143000

SUMMARY:L39845821 - 1324 Egmont Road, Egmont Village Taranaki 4310

LOCATION:1324 Egmont Road, Egmont Village Taranaki 4310

END:VEVENT

END:VCALENDAR