BEGIN:VCALENDAR

VERSION:2.0

PRODID:-//hacksw/handcal//NONSGML v1.0//EN

BEGIN:VEVENT

UID:e72b7e8572fb2e689272202a4b026524

DTSTAMP:20260424T102544Z

DTSTART:20260426T143000

DTEND:20260426T150000

SUMMARY:L39771270 - 33 Herekawe Drive, Spotswood Taranaki 4310

LOCATION:33 Herekawe Drive, Spotswood Taranaki 4310

END:VEVENT

END:VCALENDAR