BEGIN:VCALENDAR

VERSION:2.0

PRODID:-//hacksw/handcal//NONSGML v1.0//EN

BEGIN:VEVENT

UID:8ff01c3e433461e235d72d1c73717cff

DTSTAMP:20260422T200855Z

DTSTART:20260426T121500

DTEND:20260426T124500

SUMMARY:L39459973 - 435 Barrett Road, Omata Taranaki 4374

LOCATION:435 Barrett Road, Omata Taranaki 4374

END:VEVENT

END:VCALENDAR