BEGIN:VCALENDAR

VERSION:2.0

PRODID:-//hacksw/handcal//NONSGML v1.0//EN

BEGIN:VEVENT

UID:ad28e17e26089cbe045afb37f0f86263

DTSTAMP:20260421T092302Z

DTSTART:20260426T113000

DTEND:20260426T120000

SUMMARY:L39399041 - 65 Seaview Road, Marfell Taranaki 4310

LOCATION:65 Seaview Road, Marfell Taranaki 4310

END:VEVENT

END:VCALENDAR