BEGIN:VCALENDAR

VERSION:2.0

PRODID:-//hacksw/handcal//NONSGML v1.0//EN

BEGIN:VEVENT

UID:8e8fbf610322aeb1a532d88634b0ce84

DTSTAMP:20260422T200855Z

DTSTART:20260426T124500

DTEND:20260426T131500

SUMMARY:L39221316 - 2 Toko Road, Toko Taranaki 4392

LOCATION:2 Toko Road, Toko Taranaki 4392

END:VEVENT

END:VCALENDAR