BEGIN:VCALENDAR

VERSION:2.0

PRODID:-//hacksw/handcal//NONSGML v1.0//EN

BEGIN:VEVENT

UID:a7510283c0a39b79bf553676e59e525e

DTSTAMP:20260422T183405Z

DTSTART:20260426T140000

DTEND:20260426T143000

SUMMARY:L37758221 - 165 Sealy Road, Omata Taranaki 4374

LOCATION:165 Sealy Road, Omata Taranaki 4374

END:VEVENT

END:VCALENDAR