BEGIN:VCALENDAR

VERSION:2.0

PRODID:-//hacksw/handcal//NONSGML v1.0//EN

BEGIN:VEVENT

UID:7910532c4374d686ed279b7ba697c7c5

DTSTAMP:20260423T082131Z

DTSTART:20260426T121500

DTEND:20260426T124500

SUMMARY:L37674750 - 27B Port View Crescent, Moturoa Taranaki 4310

LOCATION:27B Port View Crescent, Moturoa Taranaki 4310

END:VEVENT

END:VCALENDAR