BEGIN:VCALENDAR

VERSION:2.0

PRODID:-//hacksw/handcal//NONSGML v1.0//EN

BEGIN:VEVENT

UID:51ebd548d88fd09d3127bc1fda1646c3

DTSTAMP:20260422T001925Z

DTSTART:20260426T130000

DTEND:20260426T133000

SUMMARY:L37451010 - 377 Frankley Road, Ferndale Taranaki 4310

LOCATION:377 Frankley Road, Ferndale Taranaki 4310

END:VEVENT

END:VCALENDAR