BEGIN:VCALENDAR

VERSION:2.0

PRODID:-//hacksw/handcal//NONSGML v1.0//EN

BEGIN:VEVENT

UID:305f9defcafedf1e6441fc62dd896a99

DTSTAMP:20260421T124937Z

DTSTART:20260425T114500

DTEND:20260425T121500

SUMMARY:L40291973 - 28 Camberwell Road, Hawera Taranaki 4610

LOCATION:28 Camberwell Road, Hawera Taranaki 4610

END:VEVENT

END:VCALENDAR