BEGIN:VCALENDAR

VERSION:2.0

PRODID:-//hacksw/handcal//NONSGML v1.0//EN

BEGIN:VEVENT

UID:57c439c7d2bcaac4a5b8bce9acf48f98

DTSTAMP:20260420T141138Z

DTSTART:20260425T110000

DTEND:20260425T113000

SUMMARY:L40410193 - 25 Galt Street, Hawera Taranaki 4610

LOCATION:25 Galt Street, Hawera Taranaki 4610

END:VEVENT

END:VCALENDAR