BEGIN:VCALENDAR

VERSION:2.0

PRODID:-//hacksw/handcal//NONSGML v1.0//EN

BEGIN:VEVENT

UID:bd6a6e5c85a67e0b85da1a66b23212fd

DTSTAMP:20260421T082822Z

DTSTART:20260419T110000

DTEND:20260419T113000

SUMMARY:L37422861 - 2/31 Links Drive, Waiwhakaiho Taranaki 4312

LOCATION:2/31 Links Drive, Waiwhakaiho Taranaki 4312

END:VEVENT

END:VCALENDAR