BEGIN:VCALENDAR

VERSION:2.0

PRODID:-//hacksw/handcal//NONSGML v1.0//EN

BEGIN:VEVENT

UID:1f9ec953a0a973df43d6274bf6d74e67

DTSTAMP:20260421T082658Z

DTSTART:20260319T000000

DTEND:20260319T000000

SUMMARY:L39554633 - 20 Tukapa Street, Westown Taranaki 4310

LOCATION:20 Tukapa Street, Westown Taranaki 4310

END:VEVENT

END:VCALENDAR