BEGIN:VCALENDAR

VERSION:2.0

PRODID:-//hacksw/handcal//NONSGML v1.0//EN

BEGIN:VEVENT

UID:893c7da8eeda0a54d0122e2bed938cc2

DTSTAMP:20260421T082940Z

DTSTART:20260315T110000

DTEND:20260315T113000

SUMMARY:L39595542 - 225 Norfolk Road, Norfolk Taranaki 4388

LOCATION:225 Norfolk Road, Norfolk Taranaki 4388

END:VEVENT

END:VCALENDAR