BEGIN:VCALENDAR

VERSION:2.0

PRODID:-//hacksw/handcal//NONSGML v1.0//EN

BEGIN:VEVENT

UID:833188c1eec7b992cfef4761bd2b5102

DTSTAMP:20260421T082833Z

DTSTART:20260315T121500

DTEND:20260315T124500

SUMMARY:L39485243 - 40 Maunga Heights, Hurworth Taranaki 4371

LOCATION:40 Maunga Heights, Hurworth Taranaki 4371

END:VEVENT

END:VCALENDAR