BEGIN:VCALENDAR

VERSION:2.0

PRODID:-//hacksw/handcal//NONSGML v1.0//EN

BEGIN:VEVENT

UID:ad43ed54296133b7406cf30dffd45a81

DTSTAMP:20260421T081216Z

DTSTART:20260315T110000

DTEND:20260315T113000

SUMMARY:L38857293 - 12 Silby Street, Waitara Taranaki 4320

LOCATION:12 Silby Street, Waitara Taranaki 4320

END:VEVENT

END:VCALENDAR